Workbook

Sheet Présentation 

Sheet Grille générale
A8: Thématique | B8: Champ d'application | C8: N° critère | D8: N° | E8: Observations | F8: Date .../.../2027 | G8: Date …/…/2027 | H8: Date …/…/2027 | I8: Date …/…/2027 | K8: Oui
F9: Oui/Non/NA | G9: Oui/Non/NA | H9: Oui/Non/NA | I9: Oui/Non/NA | K9: Non
A10: Droits du patient | B10: Tout établissement | C10: 1.1.01 | D10: 1 | E10: Les pratiques garantissent la dignité, l'intimité et l'intégrité du patient.
A11: Droits du patient | B11: Tout établissement | C11: 1.1.01 | D11: 2 | E11: Les locaux et équipements garantissent la dignité, l'intimité et la sécurité des patients.
A12: Droits du patient | B12: Tout établissement | C12: 1.1.01 | D12: 3 | E12: Les personnes, particulièrement en situation de handicap physique, mental et sensoriel, peuvent accéder à l'établissement et y circuler aisément.
A13: Droits du patient | B13: Tout établissement | C13: 1.1.02 | D13: 4 | E13: Dans les services accueillant des mineurs, y compris dans un service d'adultes, les bonnes pratiques sont appliquées : locaux respectueux de l'intimité, de la dignité et de la sécurité, activités ludiques et éducatives adaptées à l'âge…
A14: Droits du patient | B14: Tout établissement | C14: 1.1.03 | D14: 5 | E14: La confidentialité et le secret professionnel sont respectés (absence de nom des patients sur des tableaux, écran d'ordinateur verrouillé…).
A15: Information des usagers | B15: Tout établissement | C15: 1.2.01 | D15: 6 | E15: Le macaron associé au niveau de certification et les résultats des indicateurs en diffusion publique, dont e-Satis, sont lisiblement affichés aux accueils de l'établissement et en page d'accueil du site internet.
A16: Conditions de transport du patient | B16: Tout établissement | C16: 2.1.13 | D16: 7 | E16: Lors du transport du patient, les conditions de sécurité, de confidentialité et de confort du patient lors de son transport sont respectées (matériel fonctionnel, protections adéquates...).
A17: Stockage des médicaments | B17: Tout établissement | C17: 2.2.05 | D17: 8 | E17: Pour sécuriser la préparation et l'administration des médicaments et prévenir les risques d'erreurs, les produits de santé sont stockés dans des conditions sécurisées sur l'ensemble du circuit (étiquetage en DCI, absence de mélange, suivi des températures,absence de stockage au sol, absence de périmés, obus et bouteilles arrimés,...).
A18: Radioprotection | B18: Tout établissement | C18: 2.2-13 | D18: 9 | E18: Les professionnels qui réalisent des actes utilisant de rayonnements ionisants (imagerie, amplificateur de brillance …) portent les équipements de protection individuels (tablier, lunettes et dosimètres).
A19: Hygiène / Gestion du risque infectieux | B19: Tout établissement | C19: 2.2-08 | D19: 10 | E19: Dés lors qu'ils sont dans les services de soins, de rééducation et médico-techniques, tous les professionnels appliquent les prérequis à l'hygiène des mains : zéro bijou aux mains et poignets , manches courtes , absence de vernis, ongles courts , mésusage des gants.
A20: Hygiène / Gestion du risque infectieux | B20: Tout établissement | C20: 2.2-08 | D20: 11 | E20: Les indications d'hygiène des mains sont respectées : avant et après contact avec le patient, avant un geste aseptique et après un contact avec l'environnement du patient.
A21: Hygiène / Gestion du risque infectieux | B21: Tout établissement | C21: 2.2-09 | D21: 12 | E21: Pour les précautions complémentaires, les équipements de protection individuelle sont utilisés selon les recommandations (pas de masque médical « en collier » ou nez/bouche non inclus et/ou liens non attachés, gants (stériles ou non) éliminés immédiatement après le geste, changés entre deux patients, pas de surblouse hors des chambres...).
... A27: Environnement de travail des professionnels | B27: Tout établissement | C27: 3.2.07 | D27: 18 | E27: L'environnement de travail contribue à la sécurité des professionnels (équipements, locaux, accès) des professionnels .
A28: RÉSULTAT TOTAL (OUI) | F28: =IF(COUNTIF(F10:F27,"oui")+COUNTIF(F10:F27,"non")+COUNTIF(F10:F27,"NA")<18,"",IF(COUNTIF(F10:F27,"oui")+COUNTIF(F10:F27,"non")=0,"",COUNTIF(F10:F27,"oui")/(COUNTIF(F10:F27,"oui")+COUNTIF(F10:F27,"non")))) | G28: =IF(COUNTIF(G10:G27,"oui")+COUNTIF(G10:G27,"non")+COUNTIF(G10:G27,"NA")<18,"",IF(COUNTIF(G10:G27,"oui")+COUNTIF(G10:G27,"non")=0,"",COUNTIF(G10:G27,"oui")/(COUNTIF(G10:G27,"oui")+COUNTIF(G10:G27,"non")))) | H28: =IF(COUNTIF(H10:H27,"oui")+COUNTIF(H10:H27,"non")+COUNTIF(H10:H27,"NA")<18,"",IF(COUNTIF(H10:H27,"oui")+COUNTIF(H10:H27,"non")=0,"",COUNTIF(H10:H27,"oui")/(COUNTIF(H10:H27,"oui")+COUNTIF(H10:H27,"non")))) | I28: =IF(COUNTIF(I10:I27,"oui")+COUNTIF(I10:I27,"non")+COUNTIF(I10:I27,"NA")<18,"",IF(COUNTIF(I10:I27,"oui")+COUNTIF(I10:I27,"non")=0,"",COUNTIF(I10:I27,"oui")/(COUNTIF(I10:I27,"oui")+COUNTIF(I10:I27,"non"))))

Sheet Résultats_Thématique & C.I.
B10: OBSERVATIONS N°1 | C10: OBSERVATIONS N°2 | D10: OBSERVATIONS N°3 | E10: OBSERVATIONS N°4
B11: ='Grille générale'!F8:F8 -> Date .../.../2027 | C11: ='Grille générale'!G8:G8 -> Date …/…/2027 | D11: ='Grille générale'!H8:H8 -> Date …/…/2027 | E11: ='Grille générale'!I8:I8 -> Date …/…/2027
A12: Droits du patient | B12: =IF(COUNTIF('Grille générale'!F10:F14,"oui")+COUNTIF('Grille générale'!F10:F14,"non")+COUNTIF('Grille générale'!F10:F14,"NA")<5,"",IF(COUNTIF('Grille générale'!F10:F14,"oui")+COUNTIF('Grille générale'!F10:F14,"non")=0,"",COUNTIF('Grille générale'!F10:F14,"oui")/(COUNTIF('Grille générale'!F10:F14,"oui")+COUNTIF('Grille générale'!F10:F14,"non")))) | C12: =IF(COUNTIF('Grille générale'!G10:G14,"oui")+COUNTIF('Grille générale'!G10:G14,"non")+COUNTIF('Grille générale'!G10:G14,"NA")<5,"",IF(COUNTIF('Grille générale'!G10:G14,"oui")+COUNTIF('Grille générale'!G10:G14,"non")=0,"",COUNTIF('Grille générale'!G10:G14,"oui")/(COUNTIF('Grille générale'!G10:G14,"oui")+COUNTIF('Grille générale'!G10:G14,"non")))) | D12: =IF(COUNTIF('Grille générale'!H10:H14,"oui")+COUNTIF('Grille générale'!H10:H14,"non")+COUNTIF('Grille générale'!H10:H14,"NA")<5,"",IF(COUNTIF('Grille générale'!H10:H14,"oui")+COUNTIF('Grille générale'!H10:H14,"non")=0,"",COUNTIF('Grille générale'!H10:H14,"oui")/(COUNTIF('Grille générale'!H10:H14,"oui")+COUNTIF('Grille générale'!H10:H14,"non")))) | E12: =IF(COUNTIF('Grille générale'!I10:I14,"oui")+COUNTIF('Grille générale'!I10:I14,"non")+COUNTIF('Grille générale'!I10:I14,"NA")<5,"",IF(COUNTIF('Grille générale'!I10:I14,"oui")+COUNTIF('Grille générale'!I10:I14,"non")=0,"",COUNTIF('Grille générale'!I10:I14,"oui")/(COUNTIF('Grille générale'!I10:I14,"oui")+COUNTIF('Grille générale'!I10:I14,"non"))))
A13: Information des usagers | B13: =IF('Grille générale'!F15="","",COUNTIF('Grille générale'!F15,"oui")/(COUNTIF('Grille générale'!F15,"oui")+COUNTIF('Grille générale'!F15,"non"))) | C13: =IF('Grille générale'!G15="","",COUNTIF('Grille générale'!G15,"oui")/(COUNTIF('Grille générale'!G15,"oui")+COUNTIF('Grille générale'!G15,"non"))) | D13: =IF('Grille générale'!H15="","",COUNTIF('Grille générale'!H15,"oui")/(COUNTIF('Grille générale'!H15,"oui")+COUNTIF('Grille générale'!H15,"non"))) | E13: =IF('Grille générale'!I15="","",COUNTIF('Grille générale'!I15,"oui")/(COUNTIF('Grille générale'!I15,"oui")+COUNTIF('Grille générale'!I15,"non")))
A14: Conditions de transport du patient | B14: =IF('Grille générale'!F16="","",COUNTIF('Grille générale'!F16,"oui")/(COUNTIF('Grille générale'!F16,"oui")+COUNTIF('Grille générale'!F16,"non"))) | C14: =IF('Grille générale'!G16="","",COUNTIF('Grille générale'!G16,"oui")/(COUNTIF('Grille générale'!G16,"oui")+COUNTIF('Grille générale'!G16,"non"))) | D14: =IF('Grille générale'!H16="","",COUNTIF('Grille générale'!H16,"oui")/(COUNTIF('Grille générale'!H16,"oui")+COUNTIF('Grille générale'!H16,"non"))) | E14: =IF('Grille générale'!I16="","",COUNTIF('Grille générale'!I16,"oui")/(COUNTIF('Grille générale'!I16,"oui")+COUNTIF('Grille générale'!I16,"non")))
A15: Stockage des médicaments | B15: =IF('Grille générale'!F17="","",COUNTIF('Grille générale'!F17,"oui")/(COUNTIF('Grille générale'!F17,"oui")+COUNTIF('Grille générale'!F17,"non"))) | C15: =IF('Grille générale'!G17="","",COUNTIF('Grille générale'!G17,"oui")/(COUNTIF('Grille générale'!G17,"oui")+COUNTIF('Grille générale'!G17,"non"))) | D15: =IF('Grille générale'!H17="","",COUNTIF('Grille générale'!H17,"oui")/(COUNTIF('Grille générale'!H17,"oui")+COUNTIF('Grille générale'!H17,"non"))) | E15: =IF('Grille générale'!I17="","",COUNTIF('Grille générale'!I17,"oui")/(COUNTIF('Grille générale'!I17,"oui")+COUNTIF('Grille générale'!I17,"non")))
A16: Radioprotection | B16: =IF(OR('Grille générale'!F18="",'Grille générale'!F18="NA"),"",IF('Grille générale'!F18="non",0%,COUNTIF('Grille générale'!F18,"oui")/(COUNTIF('Grille générale'!F18,"oui")+COUNTIF('Grille générale'!F18,"non")))) | C16: =IF('Grille générale'!G18="","",COUNTIF('Grille générale'!G18,"oui")/(COUNTIF('Grille générale'!G18,"oui")+COUNTIF('Grille générale'!G18,"non"))) | D16: =IF('Grille générale'!H18="","",COUNTIF('Grille générale'!H18,"oui")/(COUNTIF('Grille générale'!H18,"oui")+COUNTIF('Grille générale'!H18,"non"))) | E16: =IF('Grille générale'!I18="","",COUNTIF('Grille générale'!I18,"oui")/(COUNTIF('Grille générale'!I18,"oui")+COUNTIF('Grille générale'!I18,"non")))
A17: Hygiène / gestion du risque infectieux | B17: =IF(COUNTIF('Grille générale'!F19:F24,"oui")+COUNTIF('Grille générale'!F19:F24,"non")+COUNTIF('Grille générale'!F19:F24,"NA")<6,"",IF(COUNTIF('Grille générale'!F19:F24,"oui")+COUNTIF('Grille générale'!F19:F24,"non")=0,"",COUNTIF('Grille générale'!F19:F24,"oui")/(COUNTIF('Grille générale'!F19:F24,"oui")+COUNTIF('Grille générale'!F19:F24,"non")))) | C17: =IF(COUNTIF('Grille générale'!G19:G24,"oui")+COUNTIF('Grille générale'!G19:G24,"non")+COUNTIF('Grille générale'!G19:G24,"NA")<6,"",IF(COUNTIF('Grille générale'!G19:G24,"oui")+COUNTIF('Grille générale'!G19:G24,"non")=0,"",COUNTIF('Grille générale'!G19:G24,"oui")/(COUNTIF('Grille générale'!G19:G24,"oui")+COUNTIF('Grille générale'!G19:G24,"non")))) | D17: =IF(COUNTIF('Grille générale'!H19:H24,"oui")+COUNTIF('Grille générale'!H19:H24,"non")+COUNTIF('Grille générale'!H19:H24,"NA")<6,"",IF(COUNTIF('Grille générale'!H19:H24,"oui")+COUNTIF('Grille générale'!H19:H24,"non")=0,"",COUNTIF('Grille générale'!H19:H24,"oui")/(COUNTIF('Grille générale'!H19:H24,"oui")+COUNTIF('Grille générale'!H19:H24,"non")))) | E17: =IF(COUNTIF('Grille générale'!I19:I24,"oui")+COUNTIF('Grille générale'!I19:I24,"non")+COUNTIF('Grille générale'!I19:I24,"NA")<6,"",IF(COUNTIF('Grille générale'!I19:I24,"oui")+COUNTIF('Grille générale'!I19:I24,"non")=0,"",COUNTIF('Grille générale'!I19:I24,"oui")/(COUNTIF('Grille générale'!I19:I24,"oui")+COUNTIF('Grille générale'!I19:I24,"non"))))
A18: PEC des urgences vitales | B18: =IF(COUNTIF('Grille générale'!F25:F26,"oui")+COUNTIF('Grille générale'!F25:F26,"non")<2,"",IF(COUNTIF('Grille générale'!F25:F26,"oui")+COUNTIF('Grille générale'!F25:F26,"non")=0,"",COUNTIF('Grille générale'!F25:F26,"oui")/(COUNTIF('Grille générale'!F25:F26,"oui")+COUNTIF('Grille générale'!F25:F26,"non")))) | C18: =IF(COUNTIF('Grille générale'!G25:G26,"oui")+COUNTIF('Grille générale'!G25:G26,"non")<2,"",IF(COUNTIF('Grille générale'!G25:G26,"oui")+COUNTIF('Grille générale'!G25:G26,"non")=0,"",COUNTIF('Grille générale'!G25:G26,"oui")/(COUNTIF('Grille générale'!G25:G26,"oui")+COUNTIF('Grille générale'!G25:G26,"non")))) | D18: =IF(COUNTIF('Grille générale'!H25:H26,"oui")+COUNTIF('Grille générale'!H25:H26,"non")<2,"",IF(COUNTIF('Grille générale'!H25:H26,"oui")+COUNTIF('Grille générale'!H25:H26,"non")=0,"",COUNTIF('Grille générale'!H25:H26,"oui")/(COUNTIF('Grille générale'!H25:H26,"oui")+COUNTIF('Grille générale'!H25:H26,"non")))) | E18: =IF(COUNTIF('Grille générale'!I25:I26,"oui")+COUNTIF('Grille générale'!I25:I26,"non")<2,"",IF(COUNTIF('Grille générale'!I25:I26,"oui")+COUNTIF('Grille générale'!I25:I26,"non")=0,"",COUNTIF('Grille générale'!I25:I26,"oui")/(COUNTIF('Grille générale'!I25:I26,"oui")+COUNTIF('Grille générale'!I25:I26,"non"))))
A19: Environnement de travail | B19: =IF('Grille générale'!F27="","",COUNTIF('Grille générale'!F27,"oui")/(COUNTIF('Grille générale'!F27,"oui")+COUNTIF('Grille générale'!F27,"non"))) | C19: =IF('Grille générale'!G27="","",COUNTIF('Grille générale'!G27,"oui")/(COUNTIF('Grille générale'!G27,"oui")+COUNTIF('Grille générale'!G27,"non"))) | D19: =IF('Grille générale'!H27="","",COUNTIF('Grille générale'!H27,"oui")/(COUNTIF('Grille générale'!H27,"oui")+COUNTIF('Grille générale'!H27,"non"))) | E19: =IF('Grille générale'!I27="","",COUNTIF('Grille générale'!I27,"oui")/(COUNTIF('Grille générale'!I27,"oui")+COUNTIF('Grille générale'!I27,"non")))
A28: Droits des patients | B28: OBSERVATIONS N°1 | C28: OBSERVATIONS N°2 | D28: OBSERVATIONS N°3 | E28: OBSERVATIONS N°4
B29: ='Grille générale'!F8 -> Date .../.../2027 | C29: ='Grille générale'!G8 -> Date …/…/2027 | D29: ='Grille générale'!H8 -> Date …/…/2027 | E29: ='Grille générale'!I8 -> Date …/…/2027
A30: Dignité, intimité et intégrité du patient | B30: =IF(COUNTIF('Grille générale'!F10:F11,"oui")+COUNTIF('Grille générale'!F10:F11,"non")<2,"",IF(COUNTIF('Grille générale'!F10:F11,"oui")+COUNTIF('Grille générale'!F10:F11,"non")=0,"",COUNTIF('Grille générale'!F10:F11,"oui")/(COUNTIF('Grille générale'!F10:F11,"oui")+COUNTIF('Grille générale'!F10:F11,"non")))) | C30: =IF(COUNTIF('Grille générale'!G10:G11,"oui")+COUNTIF('Grille générale'!G10:G11,"non")<2,"",IF(COUNTIF('Grille générale'!G10:G11,"oui")+COUNTIF('Grille générale'!G10:G11,"non")=0,"",COUNTIF('Grille générale'!G10:G11,"oui")/(COUNTIF('Grille générale'!G10:G11,"oui")+COUNTIF('Grille générale'!G10:G11,"non")))) | D30: =IF(COUNTIF('Grille générale'!H10:H11,"oui")+COUNTIF('Grille générale'!H10:H11,"non")<2,"",IF(COUNTIF('Grille générale'!H10:H11,"oui")+COUNTIF('Grille générale'!H10:H11,"non")=0,"",COUNTIF('Grille générale'!H10:H11,"oui")/(COUNTIF('Grille générale'!H10:H11,"oui")+COUNTIF('Grille générale'!H10:H11,"non")))) | E30: =IF(COUNTIF('Grille générale'!I10:I11,"oui")+COUNTIF('Grille générale'!I10:I11,"non")<2,"",IF(COUNTIF('Grille générale'!I10:I11,"oui")+COUNTIF('Grille générale'!I10:I11,"non")=0,"",COUNTIF('Grille générale'!I10:I11,"oui")/(COUNTIF('Grille générale'!I10:I11,"oui")+COUNTIF('Grille générale'!I10:I11,"non"))))
A31: Accessibilité/ circulation dans l'établissement pour les personnes en situation de handicap | B31: =IF('Grille générale'!F12="","",COUNTIF('Grille générale'!F12,"oui")) | C31: =IF('Grille générale'!G12="","",COUNTIF('Grille générale'!G12,"oui")) | D31: =IF('Grille générale'!H12="","",COUNTIF('Grille générale'!H12,"oui")) | E31: =IF('Grille générale'!I12="","",COUNTIF('Grille générale'!I12,"oui"))
A32: Application des bonnes pratiques dans les services accueillant des mineurs | B32: =IF(OR('Grille générale'!F13="",'Grille générale'!F13="NA"),"",COUNTIF('Grille générale'!F13,"oui")) | C32: =IF('Grille générale'!G13="","",COUNTIF('Grille générale'!G13,"oui")) | D32: =IF('Grille générale'!H13="","",COUNTIF('Grille générale'!H13,"oui")) | E32: =IF('Grille générale'!I13="","",COUNTIF('Grille générale'!I13,"oui"))
A33: Confidentialité / secret professionnel | B33: =IF('Grille générale'!F14="","",COUNTIF('Grille générale'!F14,"oui")) | C33: =IF('Grille générale'!G14="","",COUNTIF('Grille générale'!G14,"oui")) | D33: =IF('Grille générale'!H14="","",COUNTIF('Grille générale'!H14,"oui")) | E33: =IF('Grille générale'!I14="","",COUNTIF('Grille générale'!I14,"oui"))
A36: Hygiène / Gestion du risque infectieux | B36: OBSERVATIONS N°1 | C36: OBSERVATIONS N°2 | D36: OBSERVATIONS N°3 | E36: OBSERVATIONS N°4
B37: ='Grille générale'!F8 -> Date .../.../2027 | C37: ='Grille générale'!G8 -> Date …/…/2027 | D37: ='Grille générale'!H8 -> Date …/…/2027 | E37: ='Grille générale'!I8 -> Date …/…/2027
A38: Utilisation des tenues et équipements adaptés (EPI, tenue secteur interventionnel) | B38: =IF(COUNTIF('Grille générale'!F21:F22,"oui")+COUNTIF('Grille générale'!F21:F22,"non")=0,"",COUNTIF('Grille générale'!F21:F22,"oui")/(COUNTIF('Grille générale'!F21:F22,"oui")+COUNTIF('Grille générale'!F21:F22,"non"))) | C38: =IF(COUNTIF('Grille générale'!G21:G22,"oui")+COUNTIF('Grille générale'!G21:G22,"non")+COUNTIF('Grille générale'!G21:G22,"NA")<2,"",IF(COUNTIF('Grille générale'!G21:G22,"oui")+COUNTIF('Grille générale'!G21:G22,"non")=0,"",COUNTIF('Grille générale'!G21:G22,"oui")/(COUNTIF('Grille générale'!G21:G22,"oui")+COUNTIF('Grille générale'!G21:G22,"non")))) | D38: =IF(COUNTIF('Grille générale'!H21:H22,"oui")+COUNTIF('Grille générale'!H21:H22,"non")+COUNTIF('Grille générale'!H21:H22,"NA")<2,"",IF(COUNTIF('Grille générale'!H21:H22,"oui")+COUNTIF('Grille générale'!H21:H22,"non")=0,"",COUNTIF('Grille générale'!H21:H22,"oui")/(COUNTIF('Grille générale'!H21:H22,"oui")+COUNTIF('Grille générale'!H21:H22,"non")))) | E38: =IF(COUNTIF('Grille générale'!I21:I22,"oui")+COUNTIF('Grille générale'!I21:I22,"non")+COUNTIF('Grille générale'!I21:I22,"NA")<2,"",IF(COUNTIF('Grille générale'!I21:I22,"oui")+COUNTIF('Grille générale'!I21:I22,"non")=0,"",COUNTIF('Grille générale'!I21:I22,"oui")/(COUNTIF('Grille générale'!I21:I22,"oui")+COUNTIF('Grille générale'!I21:I22,"non"))))
A39: Hygiène des mains | B39: =IF(COUNTIF('Grille générale'!F19:F20,"oui")+COUNTIF('Grille générale'!F19:F20,"non")<2,"",IF(COUNTIF('Grille générale'!F19:F20,"oui")+COUNTIF('Grille générale'!F19:F20,"non")=0,"",COUNTIF('Grille générale'!F19:F20,"oui")/(COUNTIF('Grille générale'!F19:F20,"oui")+COUNTIF('Grille générale'!F19:F20,"non")))) | C39: =IF(COUNTIF('Grille générale'!G19:G20,"oui")+COUNTIF('Grille générale'!G19:G20,"non")<2,"",IF(COUNTIF('Grille générale'!G19:G20,"oui")+COUNTIF('Grille générale'!G19:G20,"non")=0,"",COUNTIF('Grille générale'!G19:G20,"oui")/(COUNTIF('Grille générale'!G19:G20,"oui")+COUNTIF('Grille générale'!G19:G20,"non")))) | D39: =IF(COUNTIF('Grille générale'!H19:H20,"oui")+COUNTIF('Grille générale'!H19:H20,"non")<2,"",IF(COUNTIF('Grille générale'!H19:H20,"oui")+COUNTIF('Grille générale'!H19:H20,"non")=0,"",COUNTIF('Grille générale'!H19:H20,"oui")/(COUNTIF('Grille générale'!H19:H20,"oui")+COUNTIF('Grille générale'!H19:H20,"non")))) | E39: =IF(COUNTIF('Grille générale'!I19:I20,"oui")+COUNTIF('Grille générale'!I19:I20,"non")<2,"",IF(COUNTIF('Grille générale'!I19:I20,"oui")+COUNTIF('Grille générale'!I19:I20,"non")=0,"",COUNTIF('Grille générale'!I19:I20,"oui")/(COUNTIF('Grille générale'!I19:I20,"oui")+COUNTIF('Grille générale'!I19:I20,"non"))))
A40: Propreté des locaux | B40: =IF('Grille générale'!F23="","",COUNTIF('Grille générale'!F23,"oui")) | C40: =IF('Grille générale'!G23="","",COUNTIF('Grille générale'!G23,"oui")) | D40: =IF('Grille générale'!H23="","",COUNTIF('Grille générale'!H23,"oui")) | E40: =IF('Grille générale'!I23="","",COUNTIF('Grille générale'!I23,"oui"))
A41: Tri des déchets | B41: =IF('Grille générale'!F24="","",COUNTIF('Grille générale'!F24,"oui")) | C41: =IF('Grille générale'!G24="","",COUNTIF('Grille générale'!G24,"oui")) | D41: =IF('Grille générale'!H24="","",COUNTIF('Grille générale'!H24,"oui")) | E41: =IF('Grille générale'!I24="","",COUNTIF('Grille générale'!I24,"oui"))
A45: Critères impératifs | B45: OBSERVATIONS N°1 | C45: OBSERVATIONS N°2 | D45: OBSERVATIONS N°3 | E45: OBSERVATIONS N°4
B46: ='Grille générale'!F8 -> Date .../.../2027 | C46: ='Grille générale'!G8 -> Date …/…/2027 | D46: ='Grille générale'!H8 -> Date …/…/2027 | E46: ='Grille générale'!I8 -> Date …/…/2027
A47: Dignité des patients : équipements, locaux | B47: =IF('Grille générale'!F11="","",COUNTIF('Grille générale'!F11,"oui")) | C47: =IF('Grille générale'!G11="","",COUNTIF('Grille générale'!G11,"oui")) | D47: =IF('Grille générale'!H11="","",COUNTIF('Grille générale'!H11,"oui")) | E47: =IF('Grille générale'!I11="","",COUNTIF('Grille générale'!I11,"oui"))
A48: Dignité des patients : pratiques professionnelles | B48: =IF('Grille générale'!F10="","",COUNTIF('Grille générale'!F10,"oui")) | C48: =IF('Grille générale'!G10="","",COUNTIF('Grille générale'!G10,"oui")) | D48: =IF('Grille générale'!H10="","",COUNTIF('Grille générale'!H10,"oui")) | E48: =IF('Grille générale'!I10="","",COUNTIF('Grille générale'!I10,"oui"))
A49: Application des bonnes pratiques dans les services accueillant des mineurs | B49: =IF(OR('Grille générale'!F13="",'Grille générale'!F13="NA"),"",COUNTIF('Grille générale'!F13,"oui")) | C49: =IF('Grille générale'!G13="","",COUNTIF('Grille générale'!G13,"oui")) | D49: =IF('Grille générale'!H13="","",COUNTIF('Grille générale'!H13,"oui")) | E49: =IF('Grille générale'!I13="","",COUNTIF('Grille générale'!I13,"oui"))
A50: Prérequis à l'hygiène des mains | B50: =IF(COUNTIF('Grille générale'!F19:F20,"oui")+COUNTIF('Grille générale'!F19:F20,"non")<2,"",COUNTIF('Grille générale'!F19:F20,"oui")/(COUNTIF('Grille générale'!F19:F20,"oui")+COUNTIF('Grille générale'!F19:F20,"non"))) | C50: =IF(COUNTIF('Grille générale'!G19:G20,"oui")+COUNTIF('Grille générale'!G19:G20,"non")<2,"",COUNTIF('Grille générale'!G19:G20,"oui")/(COUNTIF('Grille générale'!G19:G20,"oui")+COUNTIF('Grille générale'!G19:G20,"non"))) | D50: =IF(COUNTIF('Grille générale'!H19:H20,"oui")+COUNTIF('Grille générale'!H19:H20,"non")<2,"",COUNTIF('Grille générale'!H19:H20,"oui")/(COUNTIF('Grille générale'!H19:H20,"oui")+COUNTIF('Grille générale'!H19:H20,"non"))) | E50: =IF(COUNTIF('Grille générale'!I19:I20,"oui")+COUNTIF('Grille générale'!I19:I20,"non")<2,"",COUNTIF('Grille générale'!I19:I20,"oui")/(COUNTIF('Grille générale'!I19:I20,"oui")+COUNTIF('Grille générale'!I19:I20,"non")))
A51: Stockage des produits de santé | B51: =IF('Grille générale'!F17="","",COUNTIF('Grille générale'!F17,"oui")) | C51: =IF('Grille générale'!G17="","",COUNTIF('Grille générale'!G17,"oui")) | D51: =IF('Grille générale'!H17="","",COUNTIF('Grille générale'!H17,"oui")) | E51: =IF('Grille générale'!I17="","",COUNTIF('Grille générale'!I17,"oui"))
A52: PEC des urgences vitales | B52: =IF(COUNTIF('Grille générale'!F25:F26,"oui")+COUNTIF('Grille générale'!F25:F26,"non")<2,"",COUNTIF('Grille générale'!F25:F26,"oui")/(COUNTIF('Grille générale'!F25:F26,"oui")+COUNTIF('Grille générale'!F25:F26,"non"))) | C52: =IF(COUNTIF('Grille générale'!G25:G26,"oui")+COUNTIF('Grille générale'!G25:G26,"non")<2,"",COUNTIF('Grille générale'!G25:G26,"oui")/(COUNTIF('Grille générale'!G25:G26,"oui")+COUNTIF('Grille générale'!G25:G26,"non"))) | D52: =IF(COUNTIF('Grille générale'!H25:H26,"oui")+COUNTIF('Grille générale'!H25:H26,"non")<2,"",COUNTIF('Grille générale'!H25:H26,"oui")/(COUNTIF('Grille générale'!H25:H26,"oui")+COUNTIF('Grille générale'!H25:H26,"non"))) | E52: =IF(COUNTIF('Grille générale'!I25:I26,"oui")+COUNTIF('Grille générale'!I25:I26,"non")<2,"",COUNTIF('Grille générale'!I25:I26,"oui")/(COUNTIF('Grille générale'!I25:I26,"oui")+COUNTIF('Grille générale'!I25:I26,"non")))
A53: Accessibilité/ circulation dans l'établissement pour les personnes en situation de handicap | B53: =IF('Grille générale'!F12="","",COUNTIF('Grille générale'!F12,"oui")) | C53: =IF('Grille générale'!G12="","",COUNTIF('Grille générale'!G12,"oui")) | D53: =IF('Grille générale'!H12="","",COUNTIF('Grille générale'!H12,"oui")) | E53: =IF('Grille générale'!I12="","",COUNTIF('Grille générale'!I12,"oui"))
A54: Port de tenues et équipements adaptés strictement dédiés au secteur interventionnel | B54: =IF(OR('Grille générale'!F22="",'Grille générale'!F22="NA"),"",COUNTIF('Grille générale'!F22,"oui")) | C54: =IF('Grille générale'!G22="","",COUNTIF('Grille générale'!G22,"oui")) | D54: =IF('Grille générale'!H22="","",COUNTIF('Grille générale'!H22,"oui")) | E54: =IF('Grille générale'!I22="","",COUNTIF('Grille générale'!I22,"oui"))

Sheet Radars
